BEGIN:VCALENDAR
VERSION:2.0
PRODID:-//AudioTheme 1.8.2
BEGIN:VEVENT
UID:http://francisfalls.com/?post_type=audiotheme_gig&#038;p=156
URL:http://francisfalls.com/shows/nowheresville-monthly-singer-songwriter-showcase/
DTSTART;TZID=GMT:20170319T000000
SUMMARY:Nowheresville - Monthly Singer-Songwriter Showcase
DESCRIPTION:NO COVER
LOCATION:SideWalk Cafe 94 Avenue A\, New York\, New York 10009
END:VEVENT
END:VCALENDAR