BEGIN:VCALENDAR
VERSION:2.0
PRODID:-//AudioTheme 1.8.2
BEGIN:VEVENT
UID:http://francisfalls.com/?post_type=audiotheme_gig&#038;p=188
URL:http://francisfalls.com/shows/petes-candy-store/
DTSTART;TZID=GMT:20170827T000000
SUMMARY:Pete's Candy Store
DESCRIPTION:3pm Matinee Show @ Pete's Candy Store Brookyn\, NY
LOCATION:Pete's Candy Store\, 709 Lorimer St\, Brooklyn\, NY 11211
END:VEVENT
END:VCALENDAR